Workbook

Sheet Arkusz1
A1: lp. | B1: Materiał wzorcowy | C1: Typ sprzętu do jakiego przeznaczony jest materiał eksploatacyjny | D1: Cechy materiału wzorcowego | E1: Materiał wzorcowy /Materiał równoważny (wpisać odpowiednio) Jeśli Wykonawca oferuje materiał równoważny należy uzupełnić kolumny 5,6,7 | F1: dotyczy materiałów równoważnych | I1: Jednostka miary | J1: Ilość | K1: Cena jedn. netto | L1: Wartośc netto | M1: Dokument potwierdzający równoważność określenie dokumentu i nr strony w ofercie na której znajduje się dokument
F2: Oferowany materiał równoważny Nazwa producenta | G2: Oferowany materiał równoważny Model/Symbol | H2: Cechy oferowanego materiału równoważnego spełniające wymagania określone w kolumnie 3 na co najmniej minimalnym poziomie*)
B3: 1 | C3: 2 | D3: 3 | E3: 4 | F3: 5 | G3: 6 | H3: 7 | I3: 8 | J3: 9 | K3: 10 | L3: 11 (kol.9 * kol.10) | M3: 12
A4: 1 | B4: BROTHER TN - 2220 | C4: Brother DCP 7060D | D4: toner czarny wydajność 2600 stron | I4: szt. | J4: =SUM([1]BA!F11+'[1]BMPM '!F11+[1]BPH!F11+[1]DSPO!S11+[1]bydgoszcz!F11+[1]gdańsk!F11+[1]goleniów!F11+[1]OC!F11+[1]zbm!F11+[1]OCWARSZAWA!F11) -> 2
A5: 2 | B5: CANON C EXV 18 | C5: Canon CEXV18 IR 1018/1022 | D5: toner 8 000 stron A4 przy 5% zadruku | I5: szt. | J5: =SUM([1]BA!F23+'[1]BMPM '!F23+[1]BPH!F23+[1]DSPO!S23+[1]bydgoszcz!F23+[1]gdańsk!F23+[1]goleniów!F23+[1]OC!F23+[1]zbm!F23+[1]OCWARSZAWA!F23) -> 1
A6: 3 | B6: Canon CEXV33 | C6: CANON IR 2520 | D6: toner czarny, wydajność to 14600 stron. | I6: szt. | J6: =SUM([1]BA!F206+'[1]BMPM '!F206+[1]BPH!F206+[1]DSPO!S206+[1]bydgoszcz!F206+[1]gdańsk!F206+[1]goleniów!F206+[1]OC!F206+[1]zbm!F206+[1]OCWARSZAWA!F206) -> 2
A7: 4 | B7: Canon FX -10 | C7: Canon FAX L140 | D7: toner czarny, wydajność 2000 stron. | I7: szt. | J7: =SUM([1]BA!F208+'[1]BMPM '!F208+[1]BPH!F208+[1]DSPO!S208+[1]bydgoszcz!F208+[1]gdańsk!F208+[1]goleniów!F208+[1]OC!F208+[1]zbm!F208+[1]OCWARSZAWA!F208) -> 2
A8: 5 | B8: HP 5019A | C8: Ploter HP DESIGNJET 130 | D8: Kolor czarny, głowica drukująca Objętość kropli atramentu 4 pl | I8: szt. | J8: =SUM([1]BA!F193+'[1]BMPM '!F193+[1]BPH!F193+[1]DSPO!S193+[1]bydgoszcz!F193+[1]gdańsk!F193+[1]goleniów!F193+[1]OC!F193+[1]zbm!F193+[1]OCWARSZAWA!F193) -> 1
A9: 6 | B9: HP 51626 A | C9: HP dj400/ | D9: tusz czarny , wydajność kasety (5% pokrycia): 800 stron | I9: szt. | J9: =SUM([1]BA!F198+'[1]BMPM '!F198+[1]BPH!F198+[1]DSPO!S198+[1]bydgoszcz!F198+[1]gdańsk!F198+[1]goleniów!F198+[1]OC!F198+[1]zbm!F198+[1]OCWARSZAWA!F198) -> 6
A10: 7 | B10: HP 51645 A | C10: HP, dj880/890/895/930/950 | D10: tusz czarny wydajność kasety (5% pokrycia): 830 stron; | I10: szt. | J10: 3
A11: 8 | B11: HP 703 CD 887 AE | C11: HP DESK INK Advange model K 209 a | D11: atrament czarny 4ml wydajność 600 stron | I11: szt. | J11: =SUM([1]BA!F209+'[1]BMPM '!F209+[1]BPH!F209+[1]DSPO!S209+[1]bydgoszcz!F209+[1]gdańsk!F209+[1]goleniów!F209+[1]OC!F209+[1]zbm!F209+[1]OCWARSZAWA!F209) -> 2
A12: 9 | B12: HP 703 CD 888 AE | C12: HP DESK INK Advange model K 209 a | D12: atrament kolorowy, poj. 4 ml, 250 stron | I12: szt. | J12: =SUM([1]BA!F210+'[1]BMPM '!F210+[1]BPH!F210+[1]DSPO!S210+[1]bydgoszcz!F210+[1]gdańsk!F210+[1]goleniów!F210+[1]OC!F210+[1]zbm!F210+[1]OCWARSZAWA!F210) -> 2
A13: 10 | B13: HP C 4092 A | C13: HP LaserJet 1100/1100A, LaserJet 3200 | D13: toner , wydajność kasety (5% pokrycia): 2500 stron; | I13: szt. | J13: =SUM([1]BA!F199+'[1]BMPM '!F199+[1]BPH!F199+[1]DSPO!S199+[1]bydgoszcz!F199+[1]gdańsk!F199+[1]goleniów!F199+[1]OC!F199+[1]zbm!F199+[1]OCWARSZAWA!F199) -> 2
A14: 11 | B14: HP C 4836 A | C14: HP cp1700 | D14: tusz cyan wydajność kasety (5% pokrycia): 1750 stron; | I14: szt. | J14: =SUM([1]BA!F43+'[1]BMPM '!F43+[1]BPH!F43+[1]DSPO!S43+[1]bydgoszcz!F43+[1]gdańsk!F43+[1]goleniów!F43+[1]OC!F43+[1]zbm!F43+[1]OCWARSZAWA!F43) -> 4
A15: 12 | B15: HP C 4837 A | C15: hp cp1700 | D15: tusz magenta , wydajność kasety (5% pokrycia): 1750 stron; | I15: szt. | J15: =SUM([1]BA!F44+'[1]BMPM '!F44+[1]BPH!F44+[1]DSPO!S44+[1]bydgoszcz!F44+[1]gdańsk!F44+[1]goleniów!F44+[1]OC!F44+[1]zbm!F44+[1]OCWARSZAWA!F44) -> 4
A16: 13 | B16: HP C 4838 A | C16: hp cp1700, | D16: tusz yellow wydajność kasety (5% pokrycia): 1750 stron; | I16: szt. | J16: =SUM([1]BA!F45+'[1]BMPM '!F45+[1]BPH!F45+[1]DSPO!S45+[1]bydgoszcz!F45+[1]gdańsk!F45+[1]goleniów!F45+[1]OC!F45+[1]zbm!F45+[1]OCWARSZAWA!F45) -> 4
A17: 14 | B17: HP C 4844 A | C17: HP designjet 500 plus | D17: wydajność wkładów z tuszem (w czerni) 2200 stron A4 | I17: szt. | J17: =SUM([1]BA!F46+'[1]BMPM '!F46+[1]BPH!F46+[1]DSPO!S46+[1]bydgoszcz!F46+[1]gdańsk!F46+[1]goleniów!F46+[1]OC!F46+[1]zbm!F46+[1]OCWARSZAWA!F46) -> 5
A18: 15 | B18: HP C 4911 A | C18: HP designjet 500 plus | D18: kartridż (kolor cyan), pojemność 69 ml | I18: szt. | J18: =SUM([1]BA!F47+'[1]BMPM '!F47+[1]BPH!F47+[1]DSPO!S47+[1]bydgoszcz!F47+[1]gdańsk!F47+[1]goleniów!F47+[1]OC!F47+[1]zbm!F47+[1]OCWARSZAWA!F47) -> 1
A19: 16 | B19: HP C 4912 A | C19: HP designjet 500 plus | D19: kartridż (kolor magenta), pojemność 69 ml | I19: szt. | J19: =SUM([1]BA!F48+'[1]BMPM '!F48+[1]BPH!F48+[1]DSPO!S48+[1]bydgoszcz!F48+[1]gdańsk!F48+[1]goleniów!F48+[1]OC!F48+[1]zbm!F48+[1]OCWARSZAWA!F48) -> 1
A20: 17 | B20: HP C 4913 A | C20: HP designjet 500 plus | D20: kartridż (kolor yellow), pojemność 69 ml | I20: szt. | J20: =SUM([1]BA!F49+'[1]BMPM '!F49+[1]BPH!F49+[1]DSPO!S49+[1]bydgoszcz!F49+[1]gdańsk!F49+[1]goleniów!F49+[1]OC!F49+[1]zbm!F49+[1]OCWARSZAWA!F49) -> 1
A21: 18 | B21: HP C 6578 A | C21: HP dj920/940c/960/970/980/990 | D21: tusz kolor wydajność kasety (15% pokrycia): do 970 stron | I21: szt. | J21: =SUM([1]BA!F50+'[1]BMPM '!F50+[1]BPH!F50+[1]DSPO!S50+[1]bydgoszcz!F50+[1]gdańsk!F50+[1]goleniów!F50+[1]OC!F50+[1]zbm!F50+[1]OCWARSZAWA!F50) -> 2
A22: 19 | B22: HP C 6656 A | C22: HP DJ 5550 | D22: tusz czarny wydajność wkładów (w czerni) 520 stron | I22: szt. | J22: =SUM([1]BA!F53+'[1]BMPM '!F53+[1]BPH!F53+[1]DSPO!S53+[1]bydgoszcz!F53+[1]gdańsk!F53+[1]goleniów!F53+[1]OC!F53+[1]zbm!F53+[1]OCWARSZAWA!F53) -> 2
A23: 20 | B23: HP C 6657 A | C23: HP DJ 5550 | D23: tusz kolorowy wydajność wkładów (w kolorze): 500 stron | I23: szt. | J23: =SUM([1]BA!F54+'[1]BMPM '!F54+[1]BPH!F54+[1]DSPO!S54+[1]bydgoszcz!F54+[1]gdańsk!F54+[1]goleniów!F54+[1]OC!F54+[1]zbm!F54+[1]OCWARSZAWA!F54) -> 2
A24: 21 | B24: HP C 7115 A | C24: HP Laser Jet 1200 Series | D24: toner wydajność średnia 2.500 stron A4 przy 5% pokryciu | I24: szt. | J24: 8
A25: 22 | B25: HP C 9370 A | C25: HP drukarka T1100, | D25: czarny foto wkład atramentowy, 130ml | I25: szt. | J25: =SUM([1]BA!F56+'[1]BMPM '!F56+[1]BPH!F56+[1]DSPO!S56+[1]bydgoszcz!F56+[1]gdańsk!F56+[1]goleniów!F56+[1]OC!F56+[1]zbm!F56+[1]OCWARSZAWA!F56) -> 1
A26: 23 | B26: HP C 9371 A | C26: HP drukarka T1100, | D26: błękitny wkład atramentowy,130ml | I26: szt. | J26: =SUM([1]BA!F57+'[1]BMPM '!F57+[1]BPH!F57+[1]DSPO!S57+[1]bydgoszcz!F57+[1]gdańsk!F57+[1]goleniów!F57+[1]OC!F57+[1]zbm!F57+[1]OCWARSZAWA!F57) -> 1
A27: 24 | B27: HP C 9372 A | C27: HP drukarka T1100, | D27: purpurowy wkład atramentowy,130ml | I27: szt. | J27: =SUM([1]BA!F58+'[1]BMPM '!F58+[1]BPH!F58+[1]DSPO!S58+[1]bydgoszcz!F58+[1]gdańsk!F58+[1]goleniów!F58+[1]OC!F58+[1]zbm!F58+[1]OCWARSZAWA!F58) -> 1
A28: 25 | B28: HP C 9373 A | C28: HP drukarka T1100, | D28: wkład drukujący yellow Vivera [ 130ml ] | I28: szt. | J28: =SUM([1]BA!F59+'[1]BMPM '!F59+[1]BPH!F59+[1]DSPO!S59+[1]bydgoszcz!F59+[1]gdańsk!F59+[1]goleniów!F59+[1]OC!F59+[1]zbm!F59+[1]OCWARSZAWA!F59) -> 1
A29: 26 | B29: HP C 9374 A | C29: HP drukarka T1100, | D29: wkład drukujący grey Vivera [ 130ml ] - szary | I29: szt. | J29: =SUM([1]BA!F60+'[1]BMPM '!F60+[1]BPH!F60+[1]DSPO!S60+[1]bydgoszcz!F60+[1]gdańsk!F60+[1]goleniów!F60+[1]OC!F60+[1]zbm!F60+[1]OCWARSZAWA!F60) -> 1
A30: 27 | B30: HP C 9380 A | C30: HP Designjet T1100 | D30: grey and photo black printhead | I30: szt. | J30: =SUM([1]BA!F61+'[1]BMPM '!F61+[1]BPH!F61+[1]DSPO!S61+[1]bydgoszcz!F61+[1]gdańsk!F61+[1]goleniów!F61+[1]OC!F61+[1]zbm!F61+[1]OCWARSZAWA!F61) -> 1
A31: 28 | B31: HP C 9383 A | C31: HP Designjet T1100 | D31: głowica drukująca magenta + cyan | I31: szt. | J31: =SUM([1]BA!F62+'[1]BMPM '!F62+[1]BPH!F62+[1]DSPO!S62+[1]bydgoszcz!F62+[1]gdańsk!F62+[1]goleniów!F62+[1]OC!F62+[1]zbm!F62+[1]OCWARSZAWA!F62) -> 1
A32: 29 | B32: HP C 9384 A | C32: HP Designjet T1100 | D32: głowica matte black + yellow | I32: szt. | J32: =SUM([1]BA!F63+'[1]BMPM '!F63+[1]BPH!F63+[1]DSPO!S63+[1]bydgoszcz!F63+[1]gdańsk!F63+[1]goleniów!F63+[1]OC!F63+[1]zbm!F63+[1]OCWARSZAWA!F63) -> 1
A33: 30 | B33: HP C 9421 A | C33: hp, designjet30/30gp/30n/130/130gp/130nr | D33: Kolor purpurowy, głowica drukująca Objętość kropli atramentu 4 pl | I33: szt. | J33: =SUM([1]BA!F194+'[1]BMPM '!F194+[1]BPH!F194+[1]DSPO!S194+[1]bydgoszcz!F194+[1]gdańsk!F194+[1]goleniów!F194+[1]OC!F194+[1]zbm!F194+[1]OCWARSZAWA!F194) -> 1
A34: 31 | B34: HP C 9423 A | C34: hp, designjet30/30gp/30n/130/130gp/130nr | D34: Kolor jasnobłękitny, głowica drukująca Objętość kropli atramentu 4 pl | I34: szt. | J34: =SUM([1]BA!F196+'[1]BMPM '!F196+[1]BPH!F196+[1]DSPO!S196+[1]bydgoszcz!F196+[1]gdańsk!F196+[1]goleniów!F196+[1]OC!F196+[1]zbm!F196+[1]OCWARSZAWA!F196) -> 1
A35: 32 | B35: HP C 9424 A | C35: hp, designjet30/30gp/30n/130/130gp/130nr | D35: Kolor jasnopurpurowy, głowica drukująca oddzielne wkłady atramentowe o dużej pojemności | I35: szt. | J35: =SUM([1]BA!F197+'[1]BMPM '!F197+[1]BPH!F197+[1]DSPO!S197+[1]bydgoszcz!F197+[1]gdańsk!F197+[1]goleniów!F197+[1]OC!F197+[1]zbm!F197+[1]OCWARSZAWA!F197) -> 1
A36: 33 | B36: HP C4127A | C36: HP LaserJet 4000 N | D36: toner czarny, 6.000 KOPII A4 PRZY 5% POKRYCIU | I36: szt. | J36: =SUM([1]BA!F211+'[1]BMPM '!F211+[1]BPH!F211+[1]DSPO!S211+[1]bydgoszcz!F211+[1]gdańsk!F211+[1]goleniów!F211+[1]OC!F211+[1]zbm!F211+[1]OCWARSZAWA!F211) -> 1
A37: 34 | B37: HP C8765EE "338" | C37: HP DESK JET 460 SERIES | D37: tusz czarny, 11ml, wydajność 480 stron | I37: szt | J37: =SUM([1]BA!F223+'[1]BMPM '!F223+[1]BPH!F223+[1]DSPO!S223+[1]bydgoszcz!F223+[1]gdańsk!F223+[1]goleniów!F223+[1]OC!F223+[1]zbm!F223+[1]OCWARSZAWA!F223) -> 1
A38: 35 | B38: HP C9351AE | C38: HP Desk Jet 3940 | D38: tusz czarny, pojemnośc 5ml, wydajność 190 stron | I38: szt. | J38: =SUM([1]BA!F212+'[1]BMPM '!F212+[1]BPH!F212+[1]DSPO!S212+[1]bydgoszcz!F212+[1]gdańsk!F212+[1]goleniów!F212+[1]OC!F212+[1]zbm!F212+[1]OCWARSZAWA!F212) -> 1
A39: 36 | B39: HP C9352CE | C39: HP Desk Jet 3940 | D39: tusz kolor, pojemność 11ml, wydajność 415 stron | I39: szt. | J39: =SUM([1]BA!F213+'[1]BMPM '!F213+[1]BPH!F213+[1]DSPO!S213+[1]bydgoszcz!F213+[1]gdańsk!F213+[1]goleniów!F213+[1]OC!F213+[1]zbm!F213+[1]OCWARSZAWA!F213) -> 1
A40: 37 | B40: HP C9425A | C40: hp, designjet30/30gp/30n/130/130gp/130nr | D40: atrament, zasobnik z tuszem błękitny 28 ml do drukarek HP.cyan Pojemność 1 x 28 ml | I40: szt. | J40: =SUM([1]BA!F200+'[1]BMPM '!F200+[1]BPH!F200+[1]DSPO!S200+[1]bydgoszcz!F200+[1]gdańsk!F200+[1]goleniów!F200+[1]OC!F200+[1]zbm!F200+[1]OCWARSZAWA!F200) -> 1
A41: 38 | B41: HP C9426A | C41: hp, designjet30/30gp/30n/130/130gp/130nr | D41: tusz magenta Vivera pojemność: 28ml | I41: szt. | J41: =SUM([1]BA!F201+'[1]BMPM '!F201+[1]BPH!F201+[1]DSPO!S201+[1]bydgoszcz!F201+[1]gdańsk!F201+[1]goleniów!F201+[1]OC!F201+[1]zbm!F201+[1]OCWARSZAWA!F201) -> 1
A42: 39 | B42: HP C9428A | C42: hp, designjet30/30gp/30n/130/130gp/130nr | D42: atrament, zasobnik z tuszem HP foto błękitny 69 ml do drukarek HP.light cyan Wydajność: 69 ml | I42: szt. | J42: =SUM([1]BA!F202+'[1]BMPM '!F202+[1]BPH!F202+[1]DSPO!S202+[1]bydgoszcz!F202+[1]gdańsk!F202+[1]goleniów!F202+[1]OC!F202+[1]zbm!F202+[1]OCWARSZAWA!F202) -> 1
A43: 40 | B43: HP C9429A | C43: hp, designjet30/30gp/30n/130/130gp/130nr | D43: wkład atramentowy light magenta pojemność 69 ml | I43: szt. | J43: =SUM([1]BA!F203+'[1]BMPM '!F203+[1]BPH!F203+[1]DSPO!S203+[1]bydgoszcz!F203+[1]gdańsk!F203+[1]goleniów!F203+[1]OC!F203+[1]zbm!F203+[1]OCWARSZAWA!F203) -> 1
A44: 41 | B44: HP CE 285 A | C44: HP LJ P1102 | D44: toner czarny , wydajność 1600 stron | I44: szt. | J44: =SUM([1]BA!F68+'[1]BMPM '!F68+[1]BPH!F68+[1]DSPO!S68+[1]bydgoszcz!F68+[1]gdańsk!F68+[1]goleniów!F68+[1]OC!F68+[1]zbm!F68+[1]OCWARSZAWA!F68) -> 2
A45: 42 | B45: HP CB 540 A | C45: hp, Color LaserJet CP1215/1515/1518/1312 | D45: toner, wydajność 2200 stron a4 | I45: szt. | J45: =SUM([1]BA!F70+'[1]BMPM '!F70+[1]BPH!F70+[1]DSPO!S70+[1]bydgoszcz!F70+[1]gdańsk!F70+[1]goleniów!F70+[1]OC!F70+[1]zbm!F70+[1]OCWARSZAWA!F70) -> 1
A46: 43 | B46: HP CB 541 A | C46: hp, Color LaserJet CP1215/1515/1518/1312 | D46: toner cyan wydajność 1400str A4 | I46: szt. | J46: =SUM([1]BA!F71+'[1]BMPM '!F71+[1]BPH!F71+[1]DSPO!S71+[1]bydgoszcz!F71+[1]gdańsk!F71+[1]goleniów!F71+[1]OC!F71+[1]zbm!F71+[1]OCWARSZAWA!F71) -> 1
A47: 44 | B47: HP CB 542 A | C47: hp, Color LaserJet CP1215/1515/1518/1312 | D47: toner yellow wydajność 1400str a4 | I47: szt. | J47: =SUM([1]BA!F72+'[1]BMPM '!F72+[1]BPH!F72+[1]DSPO!S72+[1]bydgoszcz!F72+[1]gdańsk!F72+[1]goleniów!F72+[1]OC!F72+[1]zbm!F72+[1]OCWARSZAWA!F72) -> 1
A48: 45 | B48: HP CB 543 A | C48: hp, Color LaserJet CP1215/1515/1518/1312 | D48: toner magenta wydajność 1400str a4 | I48: szt. | J48: =SUM([1]BA!F73+'[1]BMPM '!F73+[1]BPH!F73+[1]DSPO!S73+[1]bydgoszcz!F73+[1]gdańsk!F73+[1]goleniów!F73+[1]OC!F73+[1]zbm!F73+[1]OCWARSZAWA!F73) -> 1
A49: 46 | B49: HP CC 530A | C49: HP Color LaserJet CM2320 MFP Series PCL 6 | D49: toner czarny, średnia wydajność kasety z czarnym tonerem: 3 500 stron standardowych przy druku ciągłym | I49: szt. | J49: 8
A50: 47 | B50: HP CC 531A | C50: HP Color LaserJet CM2320 MFP Series PCL 6 | D50: toner błękitny, średnia wydajność kasety zespolonej z tonerem błękitnym: 2 800 stron standardowych przy druku ciągłym. | I50: szt. | J50: 5
A51: 48 | B51: HP CC 532A | C51: HP Color LaserJet CM2320 MFP Series PCL 6 | D51: toner żółty, średnia wydajność kasety zespolonej z tonerem żółtym: 2 800 stron standardowych przy druku ciągłym. | I51: szt. | J51: 5
A52: 49 | B52: HP CC 533A | C52: HP Color LaserJet CM2320 MFP Series PCL 6 | D52: toner puprurowy, średnia wydajność kasety zespolonej z tonerem purpurowym: 2 800 stron standardowych przy druku ciągłym. | I52: szt. | J52: 5
A53: 50 | B53: HP CE278A (HP 78A) | C53: HP LaserJet 1536dnf MFP | D53: toner czarny , wydajność 2100 stron | I53: szt. | J53: =SUM([1]BA!F215+'[1]BMPM '!F215+[1]BPH!F215+[1]DSPO!S215+[1]bydgoszcz!F215+[1]gdańsk!F215+[1]goleniów!F215+[1]OC!F215+[1]zbm!F215+[1]OCWARSZAWA!F215) -> 1
A54: 51 | B54: HP CE285A | C54: HP M1132 | D54: czarny wydajność 1600 stron | I54: szt. | J54: =SUM([1]BA!F229+'[1]BMPM '!F229+[1]BPH!F229+[1]DSPO!S229+[1]bydgoszcz!F229+[1]gdańsk!F229+[1]goleniów!F229+[1]OC!F229+[1]zbm!F229+[1]OCWARSZAWA!F229) -> 1
A55: 52 | B55: HP CE310A | C55: Hp Color Laser Jet CP1025 | D55: toner black, 1200 stron A4 | I55: szt. | J55: =SUM([1]BA!F82+'[1]BMPM '!F82+[1]BPH!F82+[1]DSPO!S82+[1]bydgoszcz!F82+[1]gdańsk!F82+[1]goleniów!F82+[1]OC!F82+[1]zbm!F82+[1]OCWARSZAWA!F82) -> 1
A56: 53 | B56: HP CE311A | C56: Hp Color Laser Jet CP1025 | D56: toner cyan, 1000 stron A4 | I56: szt. | J56: =SUM([1]BA!F83+'[1]BMPM '!F83+[1]BPH!F83+[1]DSPO!S83+[1]bydgoszcz!F83+[1]gdańsk!F83+[1]goleniów!F83+[1]OC!F83+[1]zbm!F83+[1]OCWARSZAWA!F83) -> 1
A57: 54 | B57: HP CE312A | C57: Hp Color Laser Jet CP1025 | D57: toner yellow, 1000 stron A4 | I57: szt. | J57: =SUM([1]BA!F84+'[1]BMPM '!F84+[1]BPH!F84+[1]DSPO!S84+[1]bydgoszcz!F84+[1]gdańsk!F84+[1]goleniów!F84+[1]OC!F84+[1]zbm!F84+[1]OCWARSZAWA!F84) -> 1
A58: 55 | B58: HP CE313A | C58: Hp Color Laser Jet CP1025 | D58: toner magenta, 1000 ztron A4 | I58: szt. | J58: =SUM([1]BA!F85+'[1]BMPM '!F85+[1]BPH!F85+[1]DSPO!S85+[1]bydgoszcz!F85+[1]gdańsk!F85+[1]goleniów!F85+[1]OC!F85+[1]zbm!F85+[1]OCWARSZAWA!F85) -> 2
A59: 56 | B59: HP Q 2610 A | C59: HP LJ 2300 N | D59: toner czarny, wydajność 6000 stron | I59: szt. | J59: =SUM([1]BA!F87+'[1]BMPM '!F87+[1]BPH!F87+[1]DSPO!S87+[1]bydgoszcz!F87+[1]gdańsk!F87+[1]goleniów!F87+[1]OC!F87+[1]zbm!F87+[1]OCWARSZAWA!F87) -> 3
A60: 57 | B60: HP Q 2612 A | C60: HP LaserJet 1020 | D60: Kaseta z tonerem, 2.000 stron A4 przy 5% pokryciu. | I60: szt. | J60: =SUM([1]BA!F88+'[1]BMPM '!F88+[1]BPH!F88+[1]DSPO!S88+[1]bydgoszcz!F88+[1]gdańsk!F88+[1]goleniów!F88+[1]OC!F88+[1]zbm!F88+[1]OCWARSZAWA!F88) -> 9
A61: 58 | B61: HP Q 6000 A | C61: HP Color LaserJet 2600/2605/2605DN | D61: toner czarny 2500 stron a4 | I61: szt. | J61: =SUM([1]BA!F90+'[1]BMPM '!F90+[1]BPH!F90+[1]DSPO!S90+[1]bydgoszcz!F90+[1]gdańsk!F90+[1]goleniów!F90+[1]OC!F90+[1]zbm!F90+[1]OCWARSZAWA!F90) -> 2
A62: 59 | B62: HP Q 6001 A | C62: HP Color LaserJet 2600/2605/2605DN | D62: toner cyan , 2000 stron a4 | I62: szt. | J62: =SUM([1]BA!F91+'[1]BMPM '!F91+[1]BPH!F91+[1]DSPO!S91+[1]bydgoszcz!F91+[1]gdańsk!F91+[1]goleniów!F91+[1]OC!F91+[1]zbm!F91+[1]OCWARSZAWA!F91) -> 2
A63: 60 | B63: HP Q 6002 A | C63: HP Color LaserJet 2600/2605/2605DN | D63: toner yellow , 2000 stron a4 | I63: szt. | J63: =SUM([1]BA!F92+'[1]BMPM '!F92+[1]BPH!F92+[1]DSPO!S92+[1]bydgoszcz!F92+[1]gdańsk!F92+[1]goleniów!F92+[1]OC!F92+[1]zbm!F92+[1]OCWARSZAWA!F92) -> 2
A64: 61 | B64: HP Q 6003 A | C64: HP Color LaserJet 2600/2605/2605DN | D64: toner magenta 2000 stron a4 | I64: szt. | J64: =SUM([1]BA!F93+'[1]BMPM '!F93+[1]BPH!F93+[1]DSPO!S93+[1]bydgoszcz!F93+[1]gdańsk!F93+[1]goleniów!F93+[1]OC!F93+[1]zbm!F93+[1]OCWARSZAWA!F93) -> 2
A65: 62 | B65: HP70 C9455A | C65: Ploter AO HP DesignJet Z3200 | D65: Tusz light magenta, 130 ml | I65: szt. | J65: =SUM([1]BA!F111+'[1]BMPM '!F111+[1]BPH!F111+[1]DSPO!S111+[1]bydgoszcz!F111+[1]gdańsk!F111+[1]goleniów!F111+[1]OC!F111+[1]zbm!F111+[1]OCWARSZAWA!F111) -> 1
A66: 63 | B66: HP70 C9457A | C66: Ploter AO HP DesignJet Z3200 | D66: Tusz green, 130 ml | I66: szt. | J66: =SUM([1]BA!F112+'[1]BMPM '!F112+[1]BPH!F112+[1]DSPO!S112+[1]bydgoszcz!F112+[1]gdańsk!F112+[1]goleniów!F112+[1]OC!F112+[1]zbm!F112+[1]OCWARSZAWA!F112) -> 1
A67: 64 | B67: HPC 5016A | C67: HP,designjet30/30gp/30n/130/130gp/130nr | D67: wkład atrementowy z czarnym tuszem | I67: szt. | J67: =SUM([1]BA!F205+'[1]BMPM '!F205+[1]BPH!F205+[1]DSPO!S205+[1]bydgoszcz!F205+[1]gdańsk!F205+[1]goleniów!F205+[1]OC!F205+[1]zbm!F205+[1]OCWARSZAWA!F205) -> 1
A68: 65 | B68: HPC 8766EE "343" | C68: HP DESK JET 460 SERIES | D68: tusz kolorowy, 7ml, wydajność 260 stron | I68: szt | J68: 2
A69: 66 | B69: KONICA MINOLTA TN-114 | C69: Konica-Minolta Di 152/162/183/186 | D69: toner 11000 stron A4 przy 5% zadruku. | I69: szt. | J69: =SUM([1]BA!F122+'[1]BMPM '!F122+[1]BPH!F122+[1]DSPO!S122+[1]bydgoszcz!F122+[1]gdańsk!F122+[1]goleniów!F122+[1]OC!F122+[1]zbm!F122+[1]OCWARSZAWA!F122) -> 1
A70: 67 | B70: Kyocera TK 340 | C70: KYOCERA FS-2020, FS-2020D | D70: toner czarny wydajność 12 000 stron | I70: szt. | J70: =SUM([1]BA!F221+'[1]BMPM '!F221+[1]BPH!F221+[1]DSPO!S221+[1]bydgoszcz!F221+[1]gdańsk!F221+[1]goleniów!F221+[1]OC!F221+[1]zbm!F221+[1]OCWARSZAWA!F221) -> 2
A71: 68 | B71: Lexmark 60F2000 | C71: Lexmark MX310dn,MX410 MX510 MX511 611 | D71: toner czarny, wydajność 2500 stron | I71: szt. | J71: =SUM([1]BA!F232+'[1]BMPM '!F232+[1]BPH!F232+[1]DSPO!S232+[1]bydgoszcz!F232+[1]gdańsk!F232+[1]goleniów!F232+[1]OC!F232+[1]zbm!F232+[1]OCWARSZAWA!F232) -> 1
A72: 69 | B72: OKI 45439002 | C72: OKI B 731 | D72: czarny wydajnośc 36 000stron | I72: szt | J72: =SUM([1]BA!F230+'[1]BMPM '!F230+[1]BPH!F230+[1]DSPO!S230+[1]bydgoszcz!F230+[1]gdańsk!F230+[1]goleniów!F230+[1]OC!F230+[1]zbm!F230+[1]OCWARSZAWA!F230) -> 1
A73: 70 | B73: OKI 45488802 | C73: OKI B 731 | D73: czarny wyadjność 18000 stron | I73: szt. | J73: =SUM([1]BA!F224+'[1]BMPM '!F224+[1]BPH!F224+[1]DSPO!S224+[1]bydgoszcz!F224+[1]gdańsk!F224+[1]goleniów!F224+[1]OC!F224+[1]zbm!F224+[1]OCWARSZAWA!F224) -> 1
A74: 71 | B74: Xerox 108R00660 | C74: XEROX WorkCentre C2424, | D74: wkład stałoatramentowy cyan 3 kostki, wydajność 3400 stron przy 5% zadruku | I74: zestaw | J74: =SUM([1]BA!F216+'[1]BMPM '!F216+[1]BPH!F216+[1]DSPO!S216+[1]bydgoszcz!F216+[1]gdańsk!F216+[1]goleniów!F216+[1]OC!F216+[1]zbm!F216+[1]OCWARSZAWA!F216) -> 1
A75: 72 | B75: XEROX 108R00661 | C75: XEROX WorkCentre C2424, | D75: wkład stałoatramentowy magenta 3 kostki, wydajność 3400 stron przy 5% zadruku | I75: zestaw | J75: =SUM([1]BA!F217+'[1]BMPM '!F217+[1]BPH!F217+[1]DSPO!S217+[1]bydgoszcz!F217+[1]gdańsk!F217+[1]goleniów!F217+[1]OC!F217+[1]zbm!F217+[1]OCWARSZAWA!F217) -> 1
A76: 73 | B76: Xerox 108R00662 | C76: XEROX WorkCentre C2424, | D76: wkład stałoatramentowy yellow 3 kostki, wydajność 3400 stron przy 5% zadruku (3 szt.) | I76: zestaw | J76: =SUM([1]BA!F218+'[1]BMPM '!F218+[1]BPH!F218+[1]DSPO!S218+[1]bydgoszcz!F218+[1]gdańsk!F218+[1]goleniów!F218+[1]OC!F218+[1]zbm!F218+[1]OCWARSZAWA!F218) -> 1
A77: 74 | B77: Xerox 108R00663 | C77: XEROX WorkCentre C2424, | D77: stały atrament , czarny (3 szt.) wydajność 3400 stron | I77: zestaw | J77: =SUM([1]BA!F219+'[1]BMPM '!F219+[1]BPH!F219+[1]DSPO!S219+[1]bydgoszcz!F219+[1]gdańsk!F219+[1]goleniów!F219+[1]OC!F219+[1]zbm!F219+[1]OCWARSZAWA!F219) -> 2
A78: 75 | B78: XEROX 106R02778 | C78: Xerox WorkCentre 3225VDNI | D78: toner czarny, wydajność do 3 000 stron A4 | I78: szt. | J78: =SUM([1]BA!F190+'[1]BMPM '!F190+[1]BPH!F190+[1]DSPO!S190+[1]bydgoszcz!F190+[1]gdańsk!F190+[1]goleniów!F190+[1]OC!F190+[1]zbm!F190+[1]OCWARSZAWA!F190) -> 3
I80: razem wartość netto
B84: *) Zamawiający dopuszcza zaoferowanie produktu o wartościach o 5% mniejszych od wartosci podanych liczbą w kolumnie nr 3
D86: OŚWIADACZAM, że oferowane w tabeli powyżej MATERIAŁY RÓWNOWAŻNE spełniają poniższe wymagania Zamawiącego:
D87: 1. są kompatybilne ze sprzętem, do którego materiał ekspoatacyjny jest dedykowany,
D88: 2. jakość wydruku na takim samym poziomie bądź lepszym jak materiał wzorcowy,
D89: 3.nie powodują błędów na urządzeniu na którym są używane,
D90: 4. kolory sa tożsame z kolorami matariału wzorcowego.
E93: data: ……………………………………… | F93: podpis Wykonawcy: | G93: ……………………………….

Sheet Arkusz2

Sheet Arkusz3
