Workbook

Sheet Arkusz1
A1: lp. | B1: Materiał wzorcowy | C1: Typ sprzętu do jakiego przeznaczony jest materiał eksploatacyjny | D1: Cechy materiału wzorcowego | E1: Materiał wzorcowy /Materiał równoważny (wpisać odpowiednio) Jeśli Wykonawca oferuje materiał równoważny należy uzupełnić kolumny 5,6,7 | F1: dotyczy materiałów równoważnych | I1: Jednostka miary | J1: Ilość | K1: Cena jedn. netto | L1: Wartośc netto | M1: Dokument potwierdzający równoważność określenie dokumentu i nr strony w ofercie na której znajduje się dokument
F2: Oferowany materiał równoważny Nazwa producenta | G2: Oferowany materiał równoważny Model/Symbol | H2: Cechy oferowanego materiału równoważnego spełniające wymagania określone w kolumnie 3 na co najmniej minimalnym poziomie*)
B3: 1 | C3: 2 | D3: 3 | E3: 4 | F3: 5 | G3: 6 | H3: 7 | I3: 8 | J3: 9 | K3: 10 | L3: 11 (kol.9 * kol.10) | M3: 12
A4: 1 | B4: BROTHER TN - 2220 | C4: Brother DCP 7060D | D4: toner czarny wydajność 2600 stron | I4: szt. | J4: =SUM([1]BA!F11+'[1]BMPM '!F11+[1]BPH!F11+[1]DSPO!S11+[1]bydgoszcz!F11+[1]gdańsk!F11+[1]goleniów!F11+[1]OC!F11+[1]zbm!F11+[1]OCWARSZAWA!F11) -> 2
A5: 2 | B5: CANON C EXV 18 | C5: Canon CEXV18 IR 1018/1022 | D5: toner 8 000 stron A4 przy 5% zadruku | I5: szt. | J5: =SUM([1]BA!F23+'[1]BMPM '!F23+[1]BPH!F23+[1]DSPO!S23+[1]bydgoszcz!F23+[1]gdańsk!F23+[1]goleniów!F23+[1]OC!F23+[1]zbm!F23+[1]OCWARSZAWA!F23) -> 1
A6: 3 | B6: Canon CEXV33 | C6: CANON IR 2520 | D6: toner czarny, wydajność to 14600 stron. | I6: szt. | J6: =SUM([1]BA!F206+'[1]BMPM '!F206+[1]BPH!F206+[1]DSPO!S206+[1]bydgoszcz!F206+[1]gdańsk!F206+[1]goleniów!F206+[1]OC!F206+[1]zbm!F206+[1]OCWARSZAWA!F206) -> 2
A7: 4 | B7: Canon FX -10 | C7: Canon FAX L140 | D7: toner czarny, wydajność 2000 stron. | I7: szt. | J7: =SUM([1]BA!F208+'[1]BMPM '!F208+[1]BPH!F208+[1]DSPO!S208+[1]bydgoszcz!F208+[1]gdańsk!F208+[1]goleniów!F208+[1]OC!F208+[1]zbm!F208+[1]OCWARSZAWA!F208) -> 2
A8: 5 | B8: HP 5019A | C8: Ploter HP DESIGNJET 130 | D8: Kolor czarny, głowica drukująca Objętość kropli atramentu 4 pl | I8: szt. | J8: =SUM([1]BA!F193+'[1]BMPM '!F193+[1]BPH!F193+[1]DSPO!S193+[1]bydgoszcz!F193+[1]gdańsk!F193+[1]goleniów!F193+[1]OC!F193+[1]zbm!F193+[1]OCWARSZAWA!F193) -> 1
A9: 6 | B9: HP 51626 A | C9: HP dj400/ | D9: tusz czarny , wydajność kasety (5% pokrycia): 800 stron | I9: szt. | J9: =SUM([1]BA!F198+'[1]BMPM '!F198+[1]BPH!F198+[1]DSPO!S198+[1]bydgoszcz!F198+[1]gdańsk!F198+[1]goleniów!F198+[1]OC!F198+[1]zbm!F198+[1]OCWARSZAWA!F198) -> 6
A10: 7 | B10: HP 51645 A | C10: HP, dj880/890/895/930/950 | D10: tusz czarny wydajność kasety (5% pokrycia): 830 stron; | I10: szt. | J10: 3
A11: 8 | B11: HP 703 CD 887 AE | C11: HP DESK INK Advange model K 209 a | D11: atrament czarny 4ml wydajność 600 stron | I11: szt. | J11: =SUM([1]BA!F209+'[1]BMPM '!F209+[1]BPH!F209+[1]DSPO!S209+[1]bydgoszcz!F209+[1]gdańsk!F209+[1]goleniów!F209+[1]OC!F209+[1]zbm!F209+[1]OCWARSZAWA!F209) -> 2
A12: 9 | B12: HP 703 CD 888 AE | C12: HP DESK INK Advange model K 209 a | D12: atrament kolorowy, poj. 4 ml, 250 stron | I12: szt. | J12: =SUM([1]BA!F210+'[1]BMPM '!F210+[1]BPH!F210+[1]DSPO!S210+[1]bydgoszcz!F210+[1]gdańsk!F210+[1]goleniów!F210+[1]OC!F210+[1]zbm!F210+[1]OCWARSZAWA!F210) -> 2
A13: 10 | B13: HP C 4092 A | C13: HP LaserJet 1100/1100A, LaserJet 3200 | D13: toner , wydajność kasety (5% pokrycia): 2500 stron; | I13: szt. | J13: =SUM([1]BA!F199+'[1]BMPM '!F199+[1]BPH!F199+[1]DSPO!S199+[1]bydgoszcz!F199+[1]gdańsk!F199+[1]goleniów!F199+[1]OC!F199+[1]zbm!F199+[1]OCWARSZAWA!F199) -> 2
A14: 11 | B14: HP C 4836 A | C14: HP cp1700 | D14: tusz cyan wydajność kasety (5% pokrycia): 1750 stron; | I14: szt. | J14: =SUM([1]BA!F43+'[1]BMPM '!F43+[1]BPH!F43+[1]DSPO!S43+[1]bydgoszcz!F43+[1]gdańsk!F43+[1]goleniów!F43+[1]OC!F43+[1]zbm!F43+[1]OCWARSZAWA!F43) -> 4
A15: 12 | B15: HP C 4837 A | C15: hp cp1700 | D15: tusz magenta , wydajność kasety (5% pokrycia): 1750 stron; | I15: szt. | J15: =SUM([1]BA!F44+'[1]BMPM '!F44+[1]BPH!F44+[1]DSPO!S44+[1]bydgoszcz!F44+[1]gdańsk!F44+[1]goleniów!F44+[1]OC!F44+[1]zbm!F44+[1]OCWARSZAWA!F44) -> 4
A16: 13 | B16: HP C 4838 A | C16: hp cp1700, | D16: tusz yellow wydajność kasety (5% pokrycia): 1750 stron; | I16: szt. | J16: =SUM([1]BA!F45+'[1]BMPM '!F45+[1]BPH!F45+[1]DSPO!S45+[1]bydgoszcz!F45+[1]gdańsk!F45+[1]goleniów!F45+[1]OC!F45+[1]zbm!F45+[1]OCWARSZAWA!F45) -> 4
A17: 14 | B17: HP C 4844 A | C17: HP designjet 500 plus | D17: wydajność wkładów z tuszem (w czerni) 2200 stron A4 | I17: szt. | J17: =SUM([1]BA!F46+'[1]BMPM '!F46+[1]BPH!F46+[1]DSPO!S46+[1]bydgoszcz!F46+[1]gdańsk!F46+[1]goleniów!F46+[1]OC!F46+[1]zbm!F46+[1]OCWARSZAWA!F46) -> 5
A18: 15 | B18: HP C 4911 A | C18: HP designjet 500 plus | D18: kartridż (kolor cyan), pojemność 69 ml | I18: szt. | J18: =SUM([1]BA!F47+'[1]BMPM '!F47+[1]BPH!F47+[1]DSPO!S47+[1]bydgoszcz!F47+[1]gdańsk!F47+[1]goleniów!F47+[1]OC!F47+[1]zbm!F47+[1]OCWARSZAWA!F47) -> 1
A19: 16 | B19: HP C 4912 A | C19: HP designjet 500 plus | D19: kartridż (kolor magenta), pojemność 69 ml | I19: szt. | J19: =SUM([1]BA!F48+'[1]BMPM '!F48+[1]BPH!F48+[1]DSPO!S48+[1]bydgoszcz!F48+[1]gdańsk!F48+[1]goleniów!F48+[1]OC!F48+[1]zbm!F48+[1]OCWARSZAWA!F48) -> 1
A20: 17 | B20: HP C 4913 A | C20: HP designjet 500 plus | D20: kartridż (kolor yellow), pojemność 69 ml | I20: szt. | J20: =SUM([1]BA!F49+'[1]BMPM '!F49+[1]BPH!F49+[1]DSPO!S49+[1]bydgoszcz!F49+[1]gdańsk!F49+[1]goleniów!F49+[1]OC!F49+[1]zbm!F49+[1]OCWARSZAWA!F49) -> 1
A21: 18 | B21: HP C 6578 A | C21: HP dj920/940c/960/970/980/990 | D21: tusz kolor wydajność kasety (15% pokrycia): do 970 stron | I21: szt. | J21: =SUM([1]BA!F50+'[1]BMPM '!F50+[1]BPH!F50+[1]DSPO!S50+[1]bydgoszcz!F50+[1]gdańsk!F50+[1]goleniów!F50+[1]OC!F50+[1]zbm!F50+[1]OCWARSZAWA!F50) -> 2
A22: 19 | B22: HP C 6656 A | C22: HP DJ 5550 | D22: tusz czarny wydajność wkładów (w czerni) 520 stron | I22: szt. | J22: =SUM([1]BA!F53+'[1]BMPM '!F53+[1]BPH!F53+[1]DSPO!S53+[1]bydgoszcz!F53+[1]gdańsk!F53+[1]goleniów!F53+[1]OC!F53+[1]zbm!F53+[1]OCWARSZAWA!F53) -> 2
A23: 20 | B23: HP C 6657 A | C23: HP DJ 5550 | D23: tusz kolorowy wydajność wkładów (w kolorze): 500 stron | I23: szt. | J23: =SUM([1]BA!F54+'[1]BMPM '!F54+[1]BPH!F54+[1]DSPO!S54+[1]bydgoszcz!F54+[1]gdańsk!F54+[1]goleniów!F54+[1]OC!F54+[1]zbm!F54+[1]OCWARSZAWA!F54) -> 2
A24: 21 | B24: HP C 7115 A | C24: HP Laser Jet 1200 Series | D24: toner wydajność średnia 2.500 stron A4 przy 5% pokryciu | I24: szt. | J24: 8
A25: 22 | B25: HP C 9370 A | C25: HP drukarka T1100, | D25: czarny foto wkład atramentowy, 130ml | I25: szt. | J25: =SUM([1]BA!F56+'[1]BMPM '!F56+[1]BPH!F56+[1]DSPO!S56+[1]bydgoszcz!F56+[1]gdańsk!F56+[1]goleniów!F56+[1]OC!F56+[1]zbm!F56+[1]OCWARSZAWA!F56) -> 1
A26: 23 | B26: HP C 9371 A | C26: HP drukarka T1100, | D26: błękitny wkład atramentowy,130ml | I26: szt. | J26: =SUM([1]BA!F57+'[1]BMPM '!F57+[1]BPH!F57+[1]DSPO!S57+[1]bydgoszcz!F57+[1]gdańsk!F57+[1]goleniów!F57+[1]OC!F57+[1]zbm!F57+[1]OCWARSZAWA!F57) -> 1
A27: 24 | B27: HP C 9372 A | C27: HP drukarka T1100, | D27: purpurowy wkład atramentowy,130ml | I27: szt. | J27: =SUM([1]BA!F58+'[1]BMPM '!F58+[1]BPH!F58+[1]DSPO!S58+[1]bydgoszcz!F58+[1]gdańsk!F58+[1]goleniów!F58+[1]OC!F58+[1]zbm!F58+[1]OCWARSZAWA!F58) -> 1
A28: 25 | B28: HP C 9373 A | C28: HP drukarka T1100, | D28: wkład drukujący yellow Vivera [ 130ml ] | I28: szt. | J28: =SUM([1]BA!F59+'[1]BMPM '!F59+[1]BPH!F59+[1]DSPO!S59+[1]bydgoszcz!F59+[1]gdańsk!F59+[1]goleniów!F59+[1]OC!F59+[1]zbm!F59+[1]OCWARSZAWA!F59) -> 1
A29: 26 | B29: HP C 9374 A | C29: HP drukarka T1100, | D29: wkład drukujący grey Vivera [ 130ml ] - szary | I29: szt. | J29: =SUM([1]BA!F60+'[1]BMPM '!F60+[1]BPH!F60+[1]DSPO!S60+[1]bydgoszcz!F60+[1]gdańsk!F60+[1]goleniów!F60+[1]OC!F60+[1]zbm!F60+[1]OCWARSZAWA!F60) -> 1
A30: 27 | B30: HP C 9380 A | C30: HP Designjet T1100 | D30: grey and photo black printhead | I30: szt. | J30: =SUM([1]BA!F61+'[1]BMPM '!F61+[1]BPH!F61+[1]DSPO!S61+[1]bydgoszcz!F61+[1]gdańsk!F61+[1]goleniów!F61+[1]OC!F61+[1]zbm!F61+[1]OCWARSZAWA!F61) -> 1
A31: 28 | B31: HP C 9383 A | C31: HP Designjet T1100 | D31: głowica drukująca magenta + cyan | I31: szt. | J31: =SUM([1]BA!F62+'[1]BMPM '!F62+[1]BPH!F62+[1]DSPO!S62+[1]bydgoszcz!F62+[1]gdańsk!F62+[1]goleniów!F62+[1]OC!F62+[1]zbm!F62+[1]OCWARSZAWA!F62) -> 1
A32: 29 | B32: HP C 9384 A | C32: HP Designjet T1100 | D32: głowica matte black + yellow | I32: szt. | J32: =SUM([1]BA!F63+'[1]BMPM '!F63+[1]BPH!F63+[1]DSPO!S63+[1]bydgoszcz!F63+[1]gdańsk!F63+[1]goleniów!F63+[1]OC!F63+[1]zbm!F63+[1]OCWARSZAWA!F63) -> 1
A33: 30 | B33: HP C 9421 A | C33: hp, designjet30/30gp/30n/130/130gp/130nr | D33: Kolor purpurowy, głowica drukująca Objętość kropli atramentu 4 pl | I33: szt. | J33: =SUM([1]BA!F194+'[1]BMPM '!F194+[1]BPH!F194+[1]DSPO!S194+[1]bydgoszcz!F194+[1]gdańsk!F194+[1]goleniów!F194+[1]OC!F194+[1]zbm!F194+[1]OCWARSZAWA!F194) -> 1
A34: 31 | B34: HP C 9423 A | C34: hp, designjet30/30gp/30n/130/130gp/130nr | D34: Kolor jasnobłękitny, głowica drukująca Objętość kropli atramentu 4 pl | I34: szt. | J34: =SUM([1]BA!F196+'[1]BMPM '!F196+[1]BPH!F196+[1]DSPO!S196+[1]bydgoszcz!F196+[1]gdańsk!F196+[1]goleniów!F196+[1]OC!F196+[1]zbm!F196+[1]OCWARSZAWA!F196) -> 1
A35: 32 | B35: HP C 9424 A | C35: hp, designjet30/30gp/30n/130/130gp/130nr | D35: Kolor jasnopurpurowy, głowica drukująca oddzielne wkłady atramentowe o dużej pojemności | I35: szt. | J35: =SUM([1]BA!F197+'[1]BMPM '!F197+[1]BPH!F197+[1]DSPO!S197+[1]bydgoszcz!F197+[1]gdańsk!F197+[1]goleniów!F197+[1]OC!F197+[1]zbm!F197+[1]OCWARSZAWA!F197) -> 1
A36: 33 | B36: HP C4127A | C36: HP LaserJet 4000 N | D36: toner czarny, 6.000 KOPII A4 PRZY 5% POKRYCIU | I36: szt. | J36: =SUM([1]BA!F211+'[1]BMPM '!F211+[1]BPH!F211+[1]DSPO!S211+[1]bydgoszcz!F211+[1]gdańsk!F211+[1]goleniów!F211+[1]OC!F211+[1]zbm!F211+[1]OCWARSZAWA!F211) -> 1
A37: 34 | B37: HP C8765EE "338" | C37: HP DESK JET 460 SERIES | D37: tusz czarny, 11ml, wydajność 480 stron | I37: szt | J37: =SUM([1]BA!F223+'[1]BMPM '!F223+[1]BPH!F223+[1]DSPO!S223+[1]bydgoszcz!F223+[1]gdańsk!F223+[1]goleniów!F223+[1]OC!F223+[1]zbm!F223+[1]OCWARSZAWA!F223) -> 1
A38: 35 | B38: HP C9351AE | C38: HP Desk Jet 3940 | D38: tusz czarny, pojemnośc 5ml, wydajność 190 stron | I38: szt. | J38: =SUM([1]BA!F212+'[1]BMPM '!F212+[1]BPH!F212+[1]DSPO!S212+[1]bydgoszcz!F212+[1]gdańsk!F212+[1]goleniów!F212+[1]OC!F212+[1]zbm!F212+[1]OCWARSZAWA!F212) -> 1
A39: 36 | B39: HP C9352CE | C39: HP Desk Jet 3940 | D39: tusz kolor, pojemność 11ml, wydajność 415 stron | I39: szt. | J39: =SUM([1]BA!F213+'[1]BMPM '!F213+[1]BPH!F213+[1]DSPO!S213+[1]bydgoszcz!F213+[1]gdańsk!F213+[1]goleniów!F213+[1]OC!F213+[1]zbm!F213+[1]OCWARSZAWA!F213) -> 1
A40: 37 | B40: HP C9425A | C40: hp, designjet30/30gp/30n/130/130gp/130nr | D40: atrament, zasobnik z tuszem błękitny 28 ml do drukarek HP.cyan Pojemność 1 x 28 ml | I40: szt. | J40: =SUM([1]BA!F200+'[1]BMPM '!F200+[1]BPH!F200+[1]DSPO!S200+[1]bydgoszcz!F200+[1]gdańsk!F200+[1]goleniów!F200+[1]OC!F200+[1]zbm!F200+[1]OCWARSZAWA!F200) -> 1
...

Sheet Arkusz2

Sheet Arkusz3
