Workbook

Sheet RAZEM
B2: Lp | C2: Nazwa produktu | D2: SUMA NETTO | F2: odświeżacz powietrza w aerozolu - zakaz
B3: 1 | C3: Tarnów | D3: ='ASS Tarnów'!I66 -> 217 | F3: wniosek przygotowujemy 4 stycznia
B4: 2 | C4: Sandomierz | D4: ='ASS Sandomierz'!I66 -> 296.8 | F4: Przygotować analizę rynku!
B5: 3 | C5: Częstochowa | D5: =#REF! -> #REF!
B6: 4 | C6: Bielsko-Biała | D6: =#REF! -> #REF!
B7: 5 | C7: Katowice Muchowiec | D7: =#REF! -> #REF!
B8: 6 | C8: Kielce | D8: =#REF! -> #REF!
B9: 7 | C9: Krosno kwota 500 zł na utrzymanie tak dużej stacji jest za niska | D9: =#REF! -> #REF! | E9: Stacje o podobnych gabarytach, na obu są pracownicy terenowi
B10: 8 | C10: Lesko | D10: =#REF! -> #REF!
B11: 9 | C11: Nowy Sącz | D11: =#REF! -> #REF!
B12: 10 | C12: Zakopane | D12: =Zakopane!E16 -> 2394.48
B13: 11 | C13: Muszyna | D13: =#REF! -> #REF!
B14: 12 | C14: Racibórz | D14: =#REF! -> #REF!
B15: 13 | C15: LSM Rzeszów | D15: ='LSM Rzeszów'!I66 -> 301 | E15: stacje lotniskowe
B16: 14 | C16: LSM Balice | D16: ='LSM Balice'!I66 -> 1805.6
B17: 15 | C17: LSM Pyrzowice | D17: ='LSM Katowice-Pyrzowice'!I66 -> 222.7
B18: Razem | D18: =SUM(D3:D12) -> #REF!
C21: Pranie pościeli ( Zakopane, Muszyna) | D21: ok.2 000 zł

Sheet Całość
A1: Załącznik nr 1 do Zapytania ofertowego z dnia 10.05.2022 r.
A3: FORMULARZ OFERTOWY
A5: Nazwa Wykonawcy:
A6: Adres:
A7: Adres do korespondencji:
A8: Adres e-mail:
A9: Numer telefonu:
A10: NIP: | C10: REGON: | G10: KRS:
A12: Osoba odpowiedzialna za kontakt z Zamawiającym:
A14: Imię i nazwisko:
A15: Adres e-mail:
A16: Numer telefonu:
A18: Odpowiadając na zapytanie ofertowe dotyczące realizacji zadania pn. "Dostawa materiałów instalacyjnych elektrycznych do wykonania nowych przyłączy do domków wypoczynkowych IMGW PIB w Muszynie przy Al. Zdrojowej 12 "składamy niniejszą ofertę i oferujemy wykonanie przedmiotu zapytania ofertowego według poniższych cen jednostkowych:
A21: Lp | B21: Nazwa produktu | C21: j.m. | D21: Ilość | E21: Cena netto | F21: % VAT | G21: Cena brutto | H21: Wartość netto | I21: Wartość brutto
A22: 1 | B22: Kabel Cu elektroenergetyczny YKYżo 5x6 0,6/1kV | C22: m | D22: 150 | H22: =E22*D22 -> 0 | I22: =G22*D22 -> 0
A23: 2 | B23: Rura osłonowa 40/25 niebieska dwuścienna | C23: m | D23: 125 | H23: =E23*D23 -> 0 | I23: =G23*D23 -> 0
A24: 3 | B24: Rura karbowana 32/25 PCV/ 25m/750N DU | C24: m | D24: 25 | H24: =E24*D24 -> 0 | I24: =G24*D24 -> 0
A25: 4 | B25: Uchwyt zaciskowy CL 32 | C25: szt. | D25: 40 | H25: =E25*D25 -> 0 | I25: =G25*D25 -> 0
A26: 5 | B26: Folia 20/0,08 100mb niebieska | C26: szt. | D26: 1 | H26: =E26*D26 -> 0 | I26: =G26*D26 -> 0
A27: 6 | B27: Podstawa bezpiecznika modułowa, 10X38mm, 3P | C27: szt. | D27: 3 | H27: =E27*D27 -> 0 | I27: =G27*D27 -> 0
A28: 7 | B28: licznik energii 3F 5(80A) OR-WE-505,520 Orno: 3 sztuki | C28: szt. | D28: 3 | H28: =E28*D28 -> 0 | I28: =G28*D28 -> 0
A29: 8 | B29: Kabel Cu elektroenergetyczny. YKY 4x10 0,6/1kV | C29: m | D29: 3 | H29: =E29*D29 -> 0 | I29: =G29*D29 -> 0
A30: 9 | B30: Linka miedziana giętka LgY 10 450/750V czarna | C30: m | D30: 10 | H30: =E30*D30 -> 0 | I30: =G30*D30 -> 0
A31: 10 | B31: Taśma ocynkowana 30x4mm 0,95kg/1m małe krążki | C31: kg | D31: 30 | H31: =E31*D31 -> 0 | I31: =G31*D31 -> 0
A32: 11 | B32: Uziom przedłużka 1,5m fi20 | C32: szt. | D32: 1 | H32: =E32*D32 -> 0 | I32: =G32*D32 -> 0
A33: 12 | B33: Uziom podstawa 1,5m fi20 | C33: szt. | D33: 1 | H33: =E33*D33 -> 0 | I33: =G33*D33 -> 0
... A39: 18 | B39: Rozdzielnica bezpiecznikowa 3x18 modułów termoutwardzalna + fundament | C39: szt. | D39: 1 | H39: =E39*D39 -> 0 | I39: =G39*D39 -> 0
F41: Łączna wartość oferty: | H41: =SUM(H22:H40) -> 0 | I41: =SUM(I22:I40) -> 0
A44: 1. Oświadczamy, że cena oferty zawiera wszystkie elementy cenotwórcze, wynikające z zakresu i sposobu realizacji przedmiotu zamówienia. 2. Zobowiązujemy się do realizacji przedmiotu zamówienia w terminie określonym w zapytaniu ofertowym. 3. Oświadczamy, że posiadamy niezbędną wiedzę i doświadczenie oraz potencjał techniczny, a także dysponujemy osobami zdolnymi do wykonania zamówienia. Zobowiązujemy się do realizacji przedmiotu zapytania ofertowego z najwyższą starannością, zgodnie z obowiązującymi zasadami najlepszej praktyki zawodowej oraz obowiązującymi przepisami prawa. 4. Oświadczamy, że zapoznaliśmy się z postanowieniami zapytania ofertowego, akceptujemy je oraz przyjmujemy do realizacji.
B56: ….............................................. | G56: ….............................
B57: Miejscowość i data | G57: Podpis i pieczęć

Sheet Arkusz1

Sheet ASS Tarnów
B2: Lp | C2: Nazwa produktu | D2: j.m. | E2: ILOŚĆ | F2: cena netto | G2: NAZWA ZAMIENNIKA | H2: cena netto zamiennika | I2: SUMA NETTO
B3: 1 | C3: Płyn do mycia naczyń GOLD DROP 1L | D3: szt | E3: 2 | G3: Ludwik 1l | H3: 7 | I3: 14
B4: 2 | C4: MOP WŁÓKNINOWY biały końcówka gwint | D4: szt
B5: 3 | C5: DOMESTOS 750ml płyn do WC ZIELONY | D5: szt | E5: 1 | F5: 7 | I5: 7
B6: 4 | C6: TYTAN 500ml Kamień i Rdza płyn do łazienki z rozpylaczem | D6: szt
B7: 5 | C7: ŚCIERECZKA z mikrowłókien uniwersalna 30x30cm 1szt kolor żółty | D7: szt | E7: 3 | G7: Z mikrofibry Grosik | H7: 3.5 | I7: 10.5
B8: 6 | C8: ŚCIERKA Morana Super 51x37cm | D8: opak
B9: 7 | C9: ZMYWAK kuchenny duży – 5 sztuk | D9: opak | E9: 4 | F9: 2 | I9: 8
B10: 8 | C10: WORKI na śmieci LDPE 35L czarne mocne – 15 sztuk | D10: rolka | E10: 3 | G10: Paclan 30szt/op | H10: 4.5 | I10: 13.5
B11: 9 | C11: WORKI na śmieci LDPE 60L czarne mocne – 10 sztuk | D11: rolka
B12: 10 | C12: WORKI na śmieci LDPE 120L czarne bardzo mocne-10 sztuk | D12: rolka | E12: 2 | G12: Jan Niezbędny | H12: 7 | I12: 14
B13: 11 | C13: PRONTO PLEDGE 250ml do pielęgn mebli brązowe spray | D13: szt
B14: 12 | C14: MYDŁO 5L Softline w płynie delikatne - Attis | D14: szt | E14: 1 | G14: On-line | I14: 20
B15: 13 | C15: Ajax Floral Fiesta1L uniw. płyn do podłóg (nie zielony) | D15: szt | E15: 1 | F15: 6 | I15: 6
B16: 14 | C16: CILLIT Kamień i Rdza żel 450ml do usuw kamienia | D16: szt
B17: 15 | C17: PAPIER TOALET 3-warstwowy 8 szt. | D17: opak | E17: 5 | F17: 7 | I17: 35
B18: 16 | C18: PAPIER TOALET 2-warstwowy 8 szt. | D18: opak
B19: 17 | C19: LUDWIK 500ml płyn do mycia naczyń | D19: szt
B20: 18 | C20: MIOTŁA 30cm końcówka plastikowa gwint | D20: szt
B21: 19 | C21: DIX 550ml mleczko do czyszczenia | D21: szt | E21: 1 | G21: Cif lemon 780g | H21: 8 | I21: 8
B22: 20 | C22: KIJ metalowy 120cm stal nierdzewna gwint | D22: szt
B23: 21 | C23: CLINEX GLASS 1L płyn do szyb rozp | D23: szt | E23: 2 | G23: Mr Muscle 500ml | H23: 6.5 | I23: 13
B24: 22 | C24: ZMIOTKA + SZUFELKA plastikowa komplet | D24: komp | E24: 1 | F24: 6 | I24: 6
B25: 23 | C25: RĘKAWICE winylowe niebieskie | D25: opak
B26: 24 | C26: WORKI na śmieci LDPE 120L niebieskie mocne - 25 sztuk | D26: rolka
B27: 25 | C27: RĘCZNIK ZZ 4000 szt zielony | D27: rolka
B28: 26 | C28: ŚCIERKA YORK typ Morana Standard 51x37cm | D28: rolka
B29: 27 | C29: MYDŁO 100g kostka szare Biały Jeleń | D29: rolka
B30: 28 | C30: CLINEX GLAZUR 1L- płyn do podłóg,płytek,szyb | D30: rolka
B31: 29 | C31: CLINEX GLASS Foam 650ml pianka do szyb, szkła | D31: rolka
B32: 30 | C32: RĘKAWICE lateksowe białe | D32: rolka
B33: 31 | C33: RĘCZNIK KUCHENNY Katrin Kitchen 4 rolki w 1 op. | D33: rolka | E33: 5 | G33: Foxy 2szt/op | H33: 4 | I33: 20
B34: 32 | C34: KRET 500g środek do udrażniania rur granulki | D34: rolka
B35: 33 | C35: RĘKAWICE gospodarcze gumowe żółte | D35: rolka | E35: 4 | F35: 3 | I35: 12
B36: 34 | C36: SZCZOTECZKA do szorowania rąk średnia | D36: rolka
B37: 35 | C37: KIJ drewniany 150cm okrągły | D37: rolka
B38: 36 | C38: MIOTŁA 30cm włos mieszany naturalny końcówka gwint drewno | D38: rolka
B39: 37 | C39: RĘKAWICE robocze ogrodniczki para | D39: rolka | E39: 2 | F39: 8 | I39: 16
B40: 38 | C40: DOMESTOS 40g kostka do WC z zawieszką | D40: rolka
B41: 39 | C41: KOSTKA 40g krążek do rezerwuaru | D41: rolka
...

Sheet ASS Sandomierz
B2: Lp | C2: Nazwa produktu | D2: j.m. | E2: ILOŚĆ | F2: cena netto | G2: NAZWA ZAMIENNIKA | H2: cena netto zamiennika | I2: SUMA NETTO
B3: 1 | C3: Płyn do mycia naczyń GOLD DROP 1L | D3: szt
B4: 2 | C4: MOP WŁÓKNINOWY biały końcówka gwint | D4: szt | E4: 2 | F4: 5.7 | I4: 11.4
B5: 3 | C5: DOMESTOS 750ml płyn do WC ZIELONY | D5: szt | E5: 4 | G5: 1,25 ml | H5: 7.2 | I5: 28.8
B6: 4 | C6: TYTAN 500ml Kamień i Rdza płyn do łazienki z rozpylaczem | D6: szt
B7: 5 | C7: ŚCIERECZKA z mikrowłókien uniwersalna 30x30cm 1szt kolor żółty | D7: szt | E7: 1 | F7: 6.5 | I7: 6.5
B8: 6 | C8: ŚCIERKA Morana Super 51x37cm | D8: opak
B9: 7 | C9: ZMYWAK kuchenny duży – 5 sztuk | D9: opak | E9: 3 | F9: 2 | I9: 6
B10: 8 | C10: WORKI na śmieci LDPE 35L czarne mocne – 15 sztuk | D10: rolka | E10: 3 | G10: Anna Zaradna 40 szt. | H10: 3.25 | I10: 9.75
B11: 9 | C11: WORKI na śmieci LDPE 60L czarne mocne – 10 sztuk | D11: rolka
B12: 10 | C12: WORKI na śmieci LDPE 120L czarne bardzo mocne-10 sztuk | D12: rolka
B13: 11 | C13: PRONTO PLEDGE 250ml do pielęgn mebli brązowe spray | D13: szt | E13: 2 | G13: Presto Clean ściereczki nawilżane | H13: 6.5 | I13: 13
B14: 12 | C14: MYDŁO 5L Softline w płynie delikatne - Attis | D14: szt | E14: 2 | G14: Aile 1,0 L | H14: 2.2 | I14: 4.4
B15: 13 | C15: Ajax Floral Fiesta1L uniw. płyn do podłóg (nie zielony) | D15: szt | E15: 4 | F15: 4.9 | I15: 19.6
B16: 14 | C16: CILLIT Kamień i Rdza żel 450ml do usuw kamienia | D16: szt | E16: 1 | G16: 420 ml | H16: 6.5 | I16: 6.5
B17: 15 | C17: PAPIER TOALET 3-warstwowy 8 szt. | D17: opak | E17: 3 | H17: 8.15 | I17: 24.45
B18: 16 | C18: PAPIER TOALET 2-warstwowy 8 szt. | D18: opak
B19: 17 | C19: LUDWIK 500ml płyn do mycia naczyń | D19: szt | E19: 1 | G19: 1,0 L | H19: 6.1 | I19: 6.1
B20: 18 | C20: MIOTŁA 30cm końcówka plastikowa gwint | D20: szt | E20: 1 | H20: 12.2 | I20: 12.2
B21: 19 | C21: DIX 550ml mleczko do czyszczenia | D21: szt | E21: 2 | G21: Cif 0,78 ml | H21: 7.35 | I21: 14.7
B22: 20 | C22: KIJ metalowy 120cm stal nierdzewna gwint | D22: szt | E22: 1 | H22: 7.35 | I22: 7.35
B23: 21 | C23: CLINEX GLASS 1L płyn do szyb rozp | D23: szt | E23: 2 | G23: Clin 0,5 ml | H23: 5.7 | I23: 11.4
B24: 22 | C24: ZMIOTKA + SZUFELKA plastikowa komplet | D24: komp
B25: 23 | C25: RĘKAWICE winylowe niebieskie | D25: opak | E25: 2 | F25: 4.9 | I25: 9.8
B26: 24 | C26: WORKI na śmieci LDPE 120L niebieskie mocne - 25 sztuk | D26: rolka
B27: 25 | C27: RĘCZNIK ZZ 4000 szt zielony | D27: rolka
B28: 26 | C28: ŚCIERKA YORK typ Morana Standard 51x37cm | D28: rolka
B29: 27 | C29: MYDŁO 100g kostka szare Biały Jeleń | D29: rolka
B30: 28 | C30: CLINEX GLAZUR 1L- płyn do podłóg,płytek,szyb | D30: rolka
B31: 29 | C31: CLINEX GLASS Foam 650ml pianka do szyb, szkła | D31: rolka
B32: 30 | C32: RĘKAWICE lateksowe białe | D32: rolka
B33: 31 | C33: RĘCZNIK KUCHENNY Katrin Kitchen 4 rolki w 1 op. | D33: op. | E33: 10 | G33: Foxy Cartapaglia 2 rolki w op. | H33: 4.9 | I33: 49
B34: 32 | C34: KRET 500g środek do udrażniania rur granulki | D34: szt. | E34: 1 | G34: Kret żel 1 L | H34: 10.6 | I34: 10.6
B35: 33 | C35: RĘKAWICE gospodarcze gumowe żółte | D35: rolka
B36: 34 | C36: SZCZOTECZKA do szorowania rąk średnia | D36: szt. | E36: 1 | F36: 2.45 | I36: 2.45
B37: 35 | C37: KIJ drewniany 150cm okrągły | D37: rolka
B38: 36 | C38: MIOTŁA 30cm włos mieszany naturalny końcówka gwint drewno | D38: rolka
B39: 37 | C39: RĘKAWICE robocze ogrodniczki para | D39: rolka
B40: 38 | C40: DOMESTOS 40g kostka do WC z zawieszką | D40: rolka | E40: 10 | G40: Kolorado zawieszka | H40: 2.45 | I40: 24.5
B41: 39 | C41: KOSTKA 40g krążek do rezerwuaru | D41: rolka
...

Sheet Zakopane
B1: Nazwa | C1: ilość | D1: cena jdn | E1: wartośc
A2: Lp | E2: netto
A4: 1 | B4: papier toaletowy | C4: 95 op | D4: 5.7 | E4: =5.7*95 -> 541.5
A5: 2 | B5: reczniki papierowe | C5: 60 op | D5: 3.7 | E5: =3.7*60 -> 222
A6: 3 | B6: worki na smieci | C6: 50 op | D6: 3.27 | E6: =3.27*50 -> 163.5
A7: 4 | B7: płyn do naczyń | C7: 15 op | D7: 5.5 | E7: =5.5*15 -> 82.5
A8: 5 | B8: Agent do WC | C8: 30 op | D8: 32.7 | E8: =32.7*30 -> 981
A9: 6 | B9: Cif | C9: 15 op | D9: 6.96 | E9: =6.96*15 -> 104.4
A10: 7 | B10: Cler-płyn do podłóg | C10: 9 op | D10: 3.27 | E10: =3.27*9 -> 29.43
A11: 8 | B11: Clin-płyn do szyb | C11: 15 op | D11: 4.91 | E11: =4.91*15 -> 73.65
A12: 9 | B12: Mydło w płynie | C12: 26 op | D12: 3 | E12: =3*26 -> 78
A13: 10 | B13: ścierki kuchenne | C13: 15 op | D13: 4 | E13: =4*15 -> 60
A14: 11 | B14: zmywaki kuchenne | C14: 15 op | D14: 1.5 | E14: =1.5*15 -> 22.5
A15: 12 | B15: Kret | C15: 6 op | D15: 6 | E15: =6*6 -> 36
A16: RAZEM | E16: =SUM(E4:E15) -> 2394.48

Sheet LSM Rzeszów
B2: Lp | C2: Nazwa produktu | D2: j.m. | E2: ILOŚĆ | F2: cena netto | G2: NAZWA ZAMIENNIKA | H2: cena netto zamiennika | I2: SUMA NETTO
B3: 1 | C3: Płyn do mycia naczyń GOLD DROP 1L | D3: szt
B4: 2 | C4: MOP WŁÓKNINOWY biały końcówka gwint | D4: szt
B5: 3 | C5: DOMESTOS 750ml płyn do WC ZIELONY | D5: szt
B6: 4 | C6: TYTAN 500ml Kamień i Rdza płyn do łazienki z rozpylaczem | D6: szt
B7: 5 | C7: ŚCIERECZKA z mikrowłókien uniwersalna 30x30cm 1szt kolor żółty | D7: szt | E7: 10 | F7: 2 | I7: 20
B8: 6 | C8: ŚCIERKA Morana Super 51x37cm | D8: opak | E8: 8 | F8: 2.5 | I8: 20
B9: 7 | C9: ZMYWAK kuchenny duży – 5 sztuk | D9: opak | E9: 3 | F9: 5 | I9: 15
B10: 8 | C10: WORKI na śmieci LDPE 35L czarne mocne – 15 sztuk | D10: rolka
B11: 9 | C11: WORKI na śmieci LDPE 60L czarne mocne – 10 sztuk | D11: rolka | E11: 6 | F11: 5 | I11: 30
B12: 10 | C12: WORKI na śmieci LDPE 120L czarne bardzo mocne-10 sztuk | D12: rolka
B13: 11 | C13: PRONTO PLEDGE 250ml do pielęgn mebli brązowe spray | D13: szt | E13: 3 | F13: 10 | I13: 30
B14: 12 | C14: MYDŁO 5L Softline w płynie delikatne - Attis | D14: szt
B15: 13 | C15: Ajax Floral Fiesta1L uniw. płyn do podłóg (nie zielony) | D15: szt
B16: 14 | C16: CILLIT Kamień i Rdza żel 450ml do usuw kamienia | D16: szt
B17: 15 | C17: PAPIER TOALET 3-warstwowy 8 szt. | D17: opak
B18: 16 | C18: PAPIER TOALET 2-warstwowy 8 szt. | D18: opak
B19: 17 | C19: LUDWIK 500ml płyn do mycia naczyń | D19: szt | E19: 5 | F19: 6 | G19: Fairy | H19: 5 | I19: 25
B20: 18 | C20: MIOTŁA 30cm końcówka plastikowa gwint | D20: szt
B21: 19 | C21: DIX 550ml mleczko do czyszczenia | D21: szt | E21: 1 | F21: 12 | I21: 12
B22: 20 | C22: KIJ metalowy 120cm stal nierdzewna gwint | D22: szt
B23: 21 | C23: CLINEX GLASS 1L płyn do szyb rozp | D23: szt | E23: 4 | F23: 6 | I23: 24
B24: 22 | C24: ZMIOTKA + SZUFELKA plastikowa komplet | D24: komp
B25: 23 | C25: RĘKAWICE winylowe niebieskie | D25: opak
B26: 24 | C26: WORKI na śmieci LDPE 120L niebieskie mocne - 25 sztuk | D26: rolka
B27: 25 | C27: RĘCZNIK ZZ 4000 szt zielony | D27: rolka
B28: 26 | C28: ŚCIERKA YORK typ Morana Standard 51x37cm | D28: rolka
B29: 27 | C29: MYDŁO 100g kostka szare Biały Jeleń | D29: rolka
B30: 28 | C30: CLINEX GLAZUR 1L- płyn do podłóg,płytek,szyb | D30: rolka
B31: 29 | C31: CLINEX GLASS Foam 650ml pianka do szyb, szkła | D31: rolka
B32: 30 | C32: RĘKAWICE lateksowe białe | D32: rolka
B33: 31 | C33: RĘCZNIK KUCHENNY Katrin Kitchen 4 rolki w 1 op. | D33: rolka | E33: 6 | F33: 6 | I33: 36
B34: 32 | C34: KRET 500g środek do udrażniania rur granulki | D34: rolka | E34: 1 | F34: 12 | I34: 12
B35: 33 | C35: RĘKAWICE gospodarcze gumowe żółte | D35: rolka | E35: 5 | F35: 3 | I35: 15
B36: 34 | C36: SZCZOTECZKA do szorowania rąk średnia | D36: rolka
B37: 35 | C37: KIJ drewniany 150cm okrągły | D37: rolka
B38: 36 | C38: MIOTŁA 30cm włos mieszany naturalny końcówka gwint drewno | D38: rolka
B39: 37 | C39: RĘKAWICE robocze ogrodniczki para | D39: rolka
B40: 38 | C40: DOMESTOS 40g kostka do WC z zawieszką | D40: rolka
B41: 39 | C41: KOSTKA 40g krążek do rezerwuaru | D41: rolka
...

Sheet LSM Balice
B2: Lp | C2: Nazwa produktu | D2: j.m. | E2: ILOŚĆ | F2: cena netto | G2: NAZWA ZAMIENNIKA | H2: cena netto zamiennika | I2: SUMA NETTO
B3: 1 | C3: Płyn do mycia naczyń GOLD DROP 1L | D3: szt | E3: 4 | G3: Ludwik 5kg | H3: 16 | I3: 64
B4: 2 | C4: MOP WŁÓKNINOWY biały końcówka gwint | D4: szt
B5: 3 | C5: DOMESTOS 750ml płyn do WC ZIELONY | D5: szt | E5: 13 | G5: Domestos 1250ml | H5: 7.7 | I5: 100
B6: 4 | C6: TYTAN 500ml Kamień i Rdza płyn do łazienki z rozpylaczem | D6: szt | E6: 5 | G6: Cilit Bang Kamień i rdza | H6: 7 | I6: 35
B7: 5 | C7: ŚCIERECZKA z mikrowłókien uniwersalna 30x30cm 1szt kolor żółty | D7: szt | E7: 15 | G7: Spontex Microfibre | H7: 1.8 | I7: 9
B8: 6 | C8: ŚCIERKA Morana Super 51x37cm | D8: opak | E8: 2 | G8: Vileda - 4szt | H8: 15 | I8: 30
B9: 7 | C9: ZMYWAK kuchenny duży – 5 sztuk | D9: opak | E9: 13 | F9: 2.3 | I9: 30
B10: 8 | C10: WORKI na śmieci LDPE 35L czarne mocne – 15 sztuk | D10: rolka | E10: 6 | G10: Jan niezbędny 35l - 30szt | H10: 5 | I10: 30
B11: 9 | C11: WORKI na śmieci LDPE 60L czarne mocne – 10 sztuk | D11: rolka | E11: 18 | G11: Jan niezbędny 60l - 20szt | H11: 5 | I11: 90
B12: 10 | C12: WORKI na śmieci LDPE 120L czarne bardzo mocne-10 sztuk | D12: rolka | E12: 13 | G12: Jan niezbędny 20szt | H12: 6 | I12: 78
B13: 11 | C13: PRONTO PLEDGE 250ml do pielęgn mebli brązowe spray | D13: szt | E13: 4 | F13: 10 | I13: 40
B14: 12 | C14: MYDŁO 5L Softline w płynie delikatne - Attis | D14: szt | E14: 2 | F14: 15.5 | I14: 31
B15: 13 | C15: Ajax Floral Fiesta1L uniw. płyn do podłóg (nie zielony) | D15: szt | E15: 10 | F15: 5 | I15: 50
B16: 14 | C16: CILLIT Kamień i Rdza żel 450ml do usuw kamienia | D16: szt | E16: 3 | G16: cilit Bang do kuchni 750ml | H16: 13 | I16: 39
B17: 15 | C17: PAPIER TOALET 3-warstwowy 8 szt. | D17: opak
B18: 16 | C18: PAPIER TOALET 2-warstwowy 8 szt. | D18: opak | E18: 70 | G18: Jumbo 100 | H18: 3 | I18: 210
B19: 17 | C19: LUDWIK 500ml płyn do mycia naczyń | D19: szt | E19: 4 | F19: 5 | I19: 20
B20: 18 | C20: MIOTŁA 30cm końcówka plastikowa gwint | D20: szt
B21: 19 | C21: DIX 550ml mleczko do czyszczenia | D21: szt | E21: 6 | G21: Frosch - 500ml | H21: 5.5 | I21: 33
B22: 20 | C22: KIJ metalowy 120cm stal nierdzewna gwint | D22: szt
B23: 21 | C23: CLINEX GLASS 1L płyn do szyb rozp | D23: szt | E23: 6 | F23: 6 | I23: 36
B24: 22 | C24: ZMIOTKA + SZUFELKA plastikowa komplet | D24: komp | E24: 2 | F24: 2.5 | I24: 5
B25: 23 | C25: RĘKAWICE winylowe niebieskie | D25: opak | E25: 3 | F25: 50 | I25: 150
B26: 24 | C26: WORKI na śmieci LDPE 120L niebieskie mocne - 25 sztuk | D26: rolka | E26: 1op | F26: 16 | I26: 16
B27: 25 | C27: RĘCZNIK ZZ 4000 szt zielony | D27: rolka | E27: 25 | G27: Ręcznik kuchenny 300 listków | H27: 4 | I27: 100
B28: 26 | C28: ŚCIERKA YORK typ Morana Standard 51x37cm | D28: szt | E28: 2 | G28: Jan niezbędny ścierka do podłogi | H28: 12 | I28: 24
B29: 27 | C29: MYDŁO 100g kostka szare Biały Jeleń | D29: szt | E29: 12 | G29: Arko w kostce | H29: 1.5 | I29: 18
B30: 28 | C30: CLINEX GLAZUR 1L- płyn do podłóg,płytek,szyb | D30: rolka
B31: 29 | C31: CLINEX GLASS Foam 650ml pianka do szyb, szkła | D31: rolka
B32: 30 | C32: RĘKAWICE lateksowe białe | D32: opak | E32: 3 | F32: 20 | I32: 60
B33: 31 | C33: RĘCZNIK KUCHENNY Katrin Kitchen 4 rolki w 1 op. | D33: rolka
B34: 32 | C34: KRET 500g środek do udrażniania rur granulki | D34: szt | E34: 7 | F34: 10.5 | G34: kret 800g | I34: 74
B35: 33 | C35: RĘKAWICE gospodarcze gumowe żółte | D35: pary | E35: 10 | F35: 2.2 | I35: 22
B36: 34 | C36: SZCZOTECZKA do szorowania rąk średnia | D36: rolka
B37: 35 | C37: KIJ drewniany 150cm okrągły | D37: rolka
B38: 36 | C38: MIOTŁA 30cm włos mieszany naturalny końcówka gwint drewno | D38: rolka
B39: 37 | C39: RĘKAWICE robocze ogrodniczki para | D39: rolka
B40: 38 | C40: DOMESTOS 40g kostka do WC z zawieszką | D40: opak | E40: 40 | F40: 2.6 | I40: 104
B41: 39 | C41: KOSTKA 40g krążek do rezerwuaru | D41: rolka
...

Sheet LSM Katowice-Pyrzowice
B2: Lp | C2: Nazwa produktu | D2: j.m. | E2: ILOŚĆ | F2: cena netto | G2: NAZWA ZAMIENNIKA | H2: cena netto zamiennika | I2: SUMA NETTO
B3: 1 | C3: Płyn do mycia naczyń GOLD DROP 1L | D3: szt
B4: 2 | C4: MOP WŁÓKNINOWY biały końcówka gwint | D4: szt
B5: 3 | C5: DOMESTOS 750ml płyn do WC ZIELONY | D5: szt
B6: 4 | C6: TYTAN 500ml Kamień i Rdza płyn do łazienki z rozpylaczem | D6: szt
B7: 5 | C7: ŚCIERECZKA z mikrowłókien uniwersalna 30x30cm 1szt kolor żółty | D7: szt | E7: 6 | F7: 7.8 | I7: =E7*F7 -> 46.8
B8: 6 | C8: ŚCIERKA Morana Super 51x37cm | D8: opak
B9: 7 | C9: ZMYWAK kuchenny duży – 5 sztuk | D9: opak | E9: 5 | F9: 3.5 | I9: =E9*F9 -> 17.5
B10: 8 | C10: WORKI na śmieci LDPE 35L czarne mocne – 15 sztuk | D10: rolka
B11: 9 | C11: WORKI na śmieci LDPE 60L czarne mocne – 10 sztuk | D11: rolka | E11: 1 | F11: 5 | I11: =E11*F11 -> 5
B12: 10 | C12: WORKI na śmieci LDPE 120L czarne bardzo mocne-10 sztuk | D12: rolka
B13: 11 | C13: PRONTO PLEDGE 250ml do pielęgn mebli brązowe spray | D13: szt
B14: 12 | C14: MYDŁO 5L Softline w płynie delikatne - Attis | D14: szt | E14: 1 | F14: 17.4 | I14: =E14*F14 -> 17.4
B15: 13 | C15: Ajax Floral Fiesta1L uniw. płyn do podłóg (nie zielony) | D15: szt
B16: 14 | C16: CILLIT Kamień i Rdza żel 450ml do usuw kamienia | D16: szt
B17: 15 | C17: PAPIER TOALET 3-warstwowy 8 szt. | D17: opak
B18: 16 | C18: PAPIER TOALET 2-warstwowy 8 szt. | D18: opak
B19: 17 | C19: LUDWIK 500ml płyn do mycia naczyń | D19: szt | E19: 20 | F19: 5 | I19: =E19*F19 -> 100
B20: 18 | C20: MIOTŁA 30cm końcówka plastikowa gwint | D20: szt
B21: 19 | C21: DIX 550ml mleczko do czyszczenia | D21: szt
B22: 20 | C22: KIJ metalowy 120cm stal nierdzewna gwint | D22: szt
B23: 21 | C23: CLINEX GLASS 1L płyn do szyb rozp | D23: szt
B24: 22 | C24: ZMIOTKA + SZUFELKA plastikowa komplet | D24: komp
B25: 23 | C25: RĘKAWICE winylowe niebieskie | D25: opak
B26: 24 | C26: WORKI na śmieci LDPE 120L niebieskie mocne - 25 sztuk | D26: rolka
B27: 25 | C27: RĘCZNIK ZZ 4000 szt zielony | D27: rolka
B28: 26 | C28: ŚCIERKA YORK typ Morana Standard 51x37cm | D28: rolka
B29: 27 | C29: MYDŁO 100g kostka szare Biały Jeleń | D29: rolka
B30: 28 | C30: CLINEX GLAZUR 1L- płyn do podłóg,płytek,szyb | D30: rolka
B31: 29 | C31: CLINEX GLASS Foam 650ml pianka do szyb, szkła | D31: rolka
B32: 30 | C32: RĘKAWICE lateksowe białe | D32: rolka
B33: 31 | C33: RĘCZNIK KUCHENNY Katrin Kitchen 4 rolki w 1 op. | D33: rolka | E33: 6 | F33: 6 | I33: =E33*F33 -> 36
B34: 32 | C34: KRET 500g środek do udrażniania rur granulki | D34: rolka
B35: 33 | C35: RĘKAWICE gospodarcze gumowe żółte | D35: rolka
B36: 34 | C36: SZCZOTECZKA do szorowania rąk średnia | D36: rolka
B37: 35 | C37: KIJ drewniany 150cm okrągły | D37: rolka
B38: 36 | C38: MIOTŁA 30cm włos mieszany naturalny końcówka gwint drewno | D38: rolka
B39: 37 | C39: RĘKAWICE robocze ogrodniczki para | D39: rolka
B40: 38 | C40: DOMESTOS 40g kostka do WC z zawieszką | D40: rolka
B41: 39 | C41: KOSTKA 40g krążek do rezerwuaru | D41: rolka
...
